BEGIN:VCALENDAR
VERSION:2.0
PRODID:-//Community Foundation of Anne Arundel County - ECPv6.15.12.2//NONSGML v1.0//EN
CALSCALE:GREGORIAN
METHOD:PUBLISH
X-ORIGINAL-URL:https://cfaac.org
X-WR-CALDESC:Events for Community Foundation of Anne Arundel County
REFRESH-INTERVAL;VALUE=DURATION:PT1H
X-Robots-Tag:noindex
X-PUBLISHED-TTL:PT1H
BEGIN:VTIMEZONE
TZID:UTC
BEGIN:STANDARD
TZOFFSETFROM:+0000
TZOFFSETTO:+0000
TZNAME:UTC
DTSTART:20240101T000000
END:STANDARD
END:VTIMEZONE
BEGIN:VEVENT
DTSTART;TZID=UTC:20251110T173000
DTEND;TZID=UTC:20251110T193000
DTSTAMP:20260420T175959
CREATED:20251016T154948Z
LAST-MODIFIED:20251016T155202Z
UID:10000086-1762795800-1762803000@cfaac.org
SUMMARY:Planning with Purpose: Creating a Tax-Efficient Life and Charitable Legacy
DESCRIPTION:Join the Community Foundation of Anne Arundel County (CFAAC) and Modera Wealth Management for a practical\, jargon-free session designed to help donors\, families\, and professional advisors navigate today’s evolving tax landscape and maximize the impact of their charitable giving. \nWealth Managers Dan Ebinger and Bill Hufnell\, together with incoming CFAAC President & CEO John Rodenhausen\, will share strategies for integrating philanthropy into a comprehensive financial plan—from donor-advised funds and charitable trusts to bunching and qualified charitable distributions. You’ll also learn how recent tax law changes under the One Big Beautiful Bill Act and new Maryland provisions may influence your giving in 2025 and beyond. \nRegistration is required. Seating is limited; light refreshments will be provided. \n\nWho Should Attend\n\nIndividual donors and families planning their charitable giving\nProfessional advisors (wealth managers\, attorneys\, CPAs)\nNonprofit board members and philanthropic partners\n\nWhat You’ll Learn\n\nHow to align your legacy\, community impact\, and tax goals\nWhen to use donor-advised funds\, charitable trusts\, QCDs\, and bunching\nKey 2025 tax considerations under federal and Maryland changes\nPractical steps to integrate philanthropy into a holistic financial plan\n\nAttendees will receive a complimentary printed copy of the 2025 Community Needs Assessment Report. Additional copies will be available for purchase\, and a free download will be available at cfaac.org. \nRegister Here\nTrouble Registering? Google Chrome is the preferred browser for registration. If you continue to have trouble\, please email ashley@cfaac.org for assistance.
URL:https://cfaac.org/event/planning-with-purpose-creating-a-tax-efficient-life-and-charitable-legacy/
LOCATION:The Commons\, Research Dr.\, Annapolis\, MD\, 21401\, United States
CATEGORIES:Community Events,Fund Holder Information,Giving Guidance,Special Events
ATTACH;FMTTYPE=image/png:https://cfaac.org/wp-content/uploads/2025/10/CFAAC-Modera-Event.png
END:VEVENT
BEGIN:VEVENT
DTSTART;TZID=UTC:20250609T090000
DTEND;TZID=UTC:20250609T160000
DTSTAMP:20260420T175959
CREATED:20250514T133522Z
LAST-MODIFIED:20250603T131511Z
UID:10000074-1749459600-1749484800@cfaac.org
SUMMARY:Youth Mental Health First Aid
DESCRIPTION:Youth Mental Health First Aid is designed to teach parents\, family members\, caregivers\, teachers\, school staff\, peers\, neighbors\, health and human services workers\, and other caring citizens how to help an adolescent (age 12-18) who is experiencing a mental health or addictions challenge or is in crisis. Youth Mental Health First Aid is primarily designed for adults who regularly interact with young people. The course introduces common mental health challenges for youth\, reviews typical adolescent development\, and teaches a 5-step action plan for how to help young people in both crisis and non-crisis situations. Topics covered include anxiety\, depression\, substance use\, disorders in which psychosis may occur\, disruptive behavior disorders (including AD/HD)\, and eating disorders. \nThis course\, led by expert trainers in the mental health field and certified by the National Council for Mental Well Being\, will give you the skills you need to reach out and provide initial support to someone who may be developing a mental health or substance abuse problem and how to connect them to the appropriate care. You will also learn how to apply the ALGEE action plan: Assess for risk of suicide or harm; Listen nonjudgmentally; Give reassurance and information; Encourage appropriate professional help; and Encourage self-help and other support strategies.  \nTo learn more\, download the Mental Health First Aid for Youth one-pager. \nThe course is $25/person and includes training and materials\, and light refreshments. Limited to 30 participants – only a few seats left. \nThe deadline to register for a certificate of completion has been extended to June 6. \nREGISTER HERE\nCOURSE FORMAT \n\nActivities: Participants will learn through involvement—working with the material and applying what they learn to real-life situations. Discussion topics\, exercises\, and other activities will keep attendees engaged in the course and give them an opportunity to practice helping skills.\nEnvironment: The instructors lead each course and follow a national curriculum and teaching standards\, while emphasizing hope for recovery. Classes will consist of 30 people or less\, and are offered in a respectful\, comfortable environment.\n\n\n\nCOURSE INSTRUCTOR \n\n\nMarguerite (Marcie) Gibbons is the Hub Coordinator for the Anne Arundel County Mental Health Agency. With a background in clinical social work\, higher education\, and hospice care\, she brings decades of experience supporting mental health and wellness across diverse settings. Marcie is also a National Trainer for Adult\, Youth\, and Teen Mental Health First Aid. \nRead Marcie’s Bio \nHaving Trouble Registering? Chrome is the recommended browser\, you can also email ashley@cfaac.org.
URL:https://cfaac.org/event/11673/
LOCATION:The Commons\, Research Dr.\, Annapolis\, MD\, 21401\, United States
CATEGORIES:Community Events
ATTACH;FMTTYPE=image/jpeg:https://cfaac.org/wp-content/uploads/2025/05/YMHFA-Event-image-rebrand.jpg
END:VEVENT
BEGIN:VEVENT
DTSTART;TZID=UTC:20250327T100000
DTEND;TZID=UTC:20250327T113000
DTSTAMP:20260420T175959
CREATED:20250128T180628Z
LAST-MODIFIED:20250318T124449Z
UID:10000059-1743069600-1743075000@cfaac.org
SUMMARY:Tuning Up Your Endowment
DESCRIPTION:Join us at this event tailored for nonprofit leadership and fundraising staff\, whether you have a new or well-established endowment. \nSusie Chase\, Vice President for Advancement at Washington College\, Barb Kappel\, Nonprofit Advisor and Fundraising Coach\, and John Rodenhausen\, CFAAC Director of Gift Planning\, will lead this intimate and interactive session focused on effective strategies for fundraising and strengthening your endowment. They’ll cover key topics such as donor engagement\, long-term sustainability\, and best practices for growing your endowment fund. \nThis session will provide invaluable insights from seasoned experts\, offering practical advice to help you build on your current efforts and maximize your fundraising potential. \nSeating is limited; register here to reserve your spot. \n\n\n\n\nThe course will be held in “The Commons” a small annex conference building behind the Community Foundation of Anne Arundel County office. 
URL:https://cfaac.org/event/10572/
LOCATION:The Commons\, Research Dr.\, Annapolis\, MD\, 21401\, United States
CATEGORIES:Community Events
ATTACH;FMTTYPE=image/png:https://cfaac.org/wp-content/uploads/2025/01/Event-Site-Cover.png
END:VEVENT
END:VCALENDAR