BEGIN:VCALENDAR
VERSION:2.0
PRODID:-//Community Foundation of Anne Arundel County - ECPv6.15.12.2//NONSGML v1.0//EN
CALSCALE:GREGORIAN
METHOD:PUBLISH
X-WR-CALNAME:Community Foundation of Anne Arundel County
X-ORIGINAL-URL:https://cfaac.org
X-WR-CALDESC:Events for Community Foundation of Anne Arundel County
REFRESH-INTERVAL;VALUE=DURATION:PT1H
X-Robots-Tag:noindex
X-PUBLISHED-TTL:PT1H
BEGIN:VTIMEZONE
TZID:UTC
BEGIN:STANDARD
TZOFFSETFROM:+0000
TZOFFSETTO:+0000
TZNAME:UTC
DTSTART:20240101T000000
END:STANDARD
END:VTIMEZONE
BEGIN:VEVENT
DTSTART;TZID=UTC:20250611T090000
DTEND;TZID=UTC:20250611T110000
DTSTAMP:20260423T140636
CREATED:20250513T181233Z
LAST-MODIFIED:20250513T181233Z
UID:10000072-1749632400-1749639600@cfaac.org
SUMMARY:IMPACT100 RFA Workshop
DESCRIPTION:Impact100 2025 Request for Application is Open \nImpact100 invites nonprofits with projects that create transformational community change in Arts & Culture\, Education\, Environment\, Family\, or Health & Wellness are invited to apply. Grant amount will be announced May 8. \nRFA Workshop Dates:\nWednesday\, May 14\, Busch Annapolis Library\, 5:45–7:30pm \nWednesday\, June 11\, Chesapeake Conservancy\, 1212 West Street\, 9–11am \nLEARN MORE & RSVP HERE
URL:https://cfaac.org/event/impact100-rfa-workshop/
LOCATION:Chesapeake Conservancy\, 1212 West St\, Annapolis\, MD\, 21401\, United States
CATEGORIES:Application Deadlines
ATTACH;FMTTYPE=image/png:https://cfaac.org/wp-content/uploads/2025/05/IMPACT100.png
ORGANIZER;CN="IMPACT100":MAILTO:info@impact100greaterchesapeake.org
END:VEVENT
BEGIN:VEVENT
DTSTART;TZID=UTC:20250514T174500
DTEND;TZID=UTC:20250514T193000
DTSTAMP:20260423T140636
CREATED:20250513T181015Z
LAST-MODIFIED:20250513T181620Z
UID:10000071-1747244700-1747251000@cfaac.org
SUMMARY:IMPACT100 RFA Workshop
DESCRIPTION:Impact100 2025 Request for Application is Open \nImpact100 invites nonprofits with projects that create transformational community change in Arts & Culture\, Education\, Environment\, Family\, or Health & Wellness are invited to apply. Grant amount will be announced May 8. \nRFA Workshop Dates:\nWednesday\, May 14\, Busch Annapolis Library\, 5:45–7:30pm \nWednesday\, June 11\, Chesapeake Conservancy\, 1212 West Street\, 9–11am \nLEARN MORE & RSVP HERE
URL:https://cfaac.org/event/impact100-rda-workshop/
LOCATION:Michael E. Busch Annapolis Library\, 1410 West St\, Annapolis\, MD\, 21401\, United States
CATEGORIES:Application Deadlines
ATTACH;FMTTYPE=image/png:https://cfaac.org/wp-content/uploads/2025/05/IMPACT100.png
ORGANIZER;CN="IMPACT100":MAILTO:info@impact100greaterchesapeake.org
END:VEVENT
BEGIN:VEVENT
DTSTART;TZID=UTC:20250514T080000
DTEND;TZID=UTC:20250630T170000
DTSTAMP:20260423T140636
CREATED:20250513T181453Z
LAST-MODIFIED:20250513T181527Z
UID:10000073-1747209600-1751302800@cfaac.org
SUMMARY:IMPACT100 Grant Applications
DESCRIPTION:The goal of Impact100 is to fund projects with a high potential for community impact.
URL:https://cfaac.org/event/impact100-grant-applications/
CATEGORIES:Application Deadlines
ATTACH;FMTTYPE=image/png:https://cfaac.org/wp-content/uploads/2025/05/IMPACT100.png
ORGANIZER;CN="IMPACT100":MAILTO:info@impact100greaterchesapeake.org
END:VEVENT
END:VCALENDAR