BEGIN:VCALENDAR
VERSION:2.0
PRODID:-//Community Foundation of Anne Arundel County - ECPv6.15.12.2//NONSGML v1.0//EN
CALSCALE:GREGORIAN
METHOD:PUBLISH
X-WR-CALNAME:Community Foundation of Anne Arundel County
X-ORIGINAL-URL:https://cfaac.org
X-WR-CALDESC:Events for Community Foundation of Anne Arundel County
REFRESH-INTERVAL;VALUE=DURATION:PT1H
X-Robots-Tag:noindex
X-PUBLISHED-TTL:PT1H
BEGIN:VTIMEZONE
TZID:UTC
BEGIN:STANDARD
TZOFFSETFROM:+0000
TZOFFSETTO:+0000
TZNAME:UTC
DTSTART:20230101T000000
END:STANDARD
END:VTIMEZONE
BEGIN:VEVENT
DTSTART;TZID=UTC:20250423T140000
DTEND;TZID=UTC:20250423T150000
DTSTAMP:20260419T234741
CREATED:20250311T131954Z
LAST-MODIFIED:20250311T154530Z
UID:10000066-1745416800-1745420400@cfaac.org
SUMMARY:AACPL: Introduction to Proposal Writing: a Virtual Program
DESCRIPTION:Are you new to proposal writing or want a quick refresher? Join this course for an overview of how to write a standard project proposal to a foundation. The class includes the basic elements of a proposal the “do’s” and “don’ts” of writing and submitting a proposal\, how to follow up\, and a hands-on exercise to develop a proposal outline. \nRegistration is required for this virtual program to receive the zoom link. \nHosted by Busch Annapolis Library Staff
URL:https://cfaac.org/event/aacpl-introduction-to-proposal-writing-a-virtual-program/
LOCATION:Zoom
CATEGORIES:Community Events
ATTACH;FMTTYPE=image/jpeg:https://cfaac.org/wp-content/uploads/2025/03/Foundation-Grants.jpg
END:VEVENT
BEGIN:VEVENT
DTSTART;TZID=UTC:20250409T173000
DTEND;TZID=UTC:20250409T193000
DTSTAMP:20260419T234741
CREATED:20250311T131025Z
LAST-MODIFIED:20250311T131321Z
UID:10000064-1744219800-1744227000@cfaac.org
SUMMARY:AAWGT Spring Open House
DESCRIPTION:Join AAWGT for an Open House and learn how Anne Arundel Women Giving Together (AAWGT) is making a difference in our community. At the event you will meet inspiring like-minded women and hear about the work we support. \n\n\n\nThinking of becoming one of 350+ members?\nCurious about WHO we are\, WHAT we do\, and WHY our members joined the Giving Circle?\n\nThis event is free and open to the public; members are encouraged to bring guests: \n\nEach member who brings a guest will participate in a drawing for a delightful gift basket; one chance for each guest you bring!\nEach guest will participate in a drawing for another delightful gift basket.
URL:https://cfaac.org/event/aawgt-spring-open-house/
LOCATION:The Atreeum at Soaring Timbers\, 610 North Bestgate Road\, Annapolis\, MD\, 21401\, United States
CATEGORIES:Community Events
ATTACH;FMTTYPE=image/png:https://cfaac.org/wp-content/uploads/2025/03/AAWGT-Spring-Open-House.png
ORGANIZER;CN="Anne Arundel Women Giving Together":MAILTO:events@givingtogether.org
END:VEVENT
BEGIN:VEVENT
DTSTART;VALUE=DATE:20250331
DTEND;VALUE=DATE:20250417
DTSTAMP:20260419T234741
CREATED:20250402T155412Z
LAST-MODIFIED:20250402T155435Z
UID:10000070-1743379200-1744847999@cfaac.org
SUMMARY:Fundraising & Sustainability Cohort (Spring 2025)
DESCRIPTION:CFAAC is proud to collaborate with NPC on the Spring 2025 Fundraising & Sustainability Cohort! Led by Dr. Lili Leonard of Black Dog Philanthropic\, this five-week course will equip small to mid-size nonprofits with essential fundraising strategies\, donor engagement tactics\, and revenue-generating opportunities. With a focus on supporting minority-led organizations and BIPOC leadership\, this cohort offers practical guidance and personalized consulting. \nSpace is limited—apply by noon on April 16 to secure your spot! \nMEET THE INSTRUCTOR: \nWe’re also excited to announce that the instructor for this course will be Dr. Lili Leonard of Black Dog Philanthropic. If you were lucky enough to attend a past cohort or hear her speak at the conference\, you’ll be familiar with both the enthusiasm and expertise Lili brings. She receives high praise and excellent feedback after every cohort or session she leads\, so we know you’ll be in good hands with her in this 5-week course. \nCOURSE CONTENT: \nCrafting a narrative and budget that resonates with donors.\nDeveloping a fundraising plan to include achievable targets and determining which grants\, individual donors\, corporate sponsorships\, and earned income to pursue and track.\nCultivating donor relationships through donor stewardship\, developing a communication plan to engage donors\, leveraging volunteers\, and determining which fundraising events will work for your organization.\nExploring earned income opportunities including identifying potential revenue-generating activities\, creating sustainable business ventures\, crowdfunding and online fundraising\, and grant and public funding. \nCOST: \nIn an effort to keep these cohorts accessible to all\, we’ve kept our costs low. There is no fee to apply and\, if accepted into the course\, the fee will be $50. This includes 3 hours of 1:1 consultant time with the instructor\, which you can use at any time during the cohort or anytime after the course concludes. \nTARGET AUDIENCE: \nWe encourage small to mid-size nonprofits in Anne Arundel County who serve local residents to apply. This cohort will include content for all\, with a focus on providing guidance for minority-led organizations and BIPOC leadership. Organizations can bring up to three people to these sessions\, meaning there is flexibility for who from your organization can attend. We typically encourage Executive Directors\, Development Directors\, key volunteers\, and/or board members to attend. \nIMPORTANT DATES: \nApplication Deadline: Noon on Wednesday\, April 16\nNotification of Acceptance: Thursday\, April 17 & Friday April 18\nClasses:\nSession 1: Wednesday\, April 30\nSession 2: Wednesday\, May 7\nSession 3: Wednesday\, May 14\nSession 4: Wednesday\, May 21\nSession 5: Wednesday\, May 28 \nFeel free to email Mae Binkley at exbink24@aacounty.org with any questions regarding course content\, application process\, eligibility\, etc.
URL:https://cfaac.org/event/11211/
LOCATION:The Nonprofit Center @ 41 Community Place\, 41 Community Place\, Crownsville\, MD\, 21032
CATEGORIES:Application Deadlines,Community Events
ATTACH;FMTTYPE=image/png:https://cfaac.org/wp-content/uploads/2025/04/npc-spring-2025-cohort-billboard.png
END:VEVENT
BEGIN:VEVENT
DTSTART;TZID=UTC:20250327T100000
DTEND;TZID=UTC:20250327T113000
DTSTAMP:20260419T234741
CREATED:20250128T180628Z
LAST-MODIFIED:20250318T124449Z
UID:10000059-1743069600-1743075000@cfaac.org
SUMMARY:Tuning Up Your Endowment
DESCRIPTION:Join us at this event tailored for nonprofit leadership and fundraising staff\, whether you have a new or well-established endowment. \nSusie Chase\, Vice President for Advancement at Washington College\, Barb Kappel\, Nonprofit Advisor and Fundraising Coach\, and John Rodenhausen\, CFAAC Director of Gift Planning\, will lead this intimate and interactive session focused on effective strategies for fundraising and strengthening your endowment. They’ll cover key topics such as donor engagement\, long-term sustainability\, and best practices for growing your endowment fund. \nThis session will provide invaluable insights from seasoned experts\, offering practical advice to help you build on your current efforts and maximize your fundraising potential. \nSeating is limited; register here to reserve your spot. \n\n\n\n\nThe course will be held in “The Commons” a small annex conference building behind the Community Foundation of Anne Arundel County office. 
URL:https://cfaac.org/event/10572/
LOCATION:The Commons\, Research Dr.\, Annapolis\, MD\, 21401\, United States
CATEGORIES:Community Events
ATTACH;FMTTYPE=image/png:https://cfaac.org/wp-content/uploads/2025/01/Event-Site-Cover.png
END:VEVENT
BEGIN:VEVENT
DTSTART;TZID=UTC:20250326T140000
DTEND;TZID=UTC:20250326T153000
DTSTAMP:20260419T234741
CREATED:20250311T131811Z
LAST-MODIFIED:20250311T154545Z
UID:10000065-1742997600-1743003000@cfaac.org
SUMMARY:AACPL: Grantseeking Resources Workshop
DESCRIPTION:Learn to search for grants for your nonprofit organization and attract funders by using Foundation Directory\, Candid Learning and GuideStar.
URL:https://cfaac.org/event/aacpl-grantseeking-resources-workshop/
LOCATION:Michael E. Busch Annapolis Library\, 1410 West St\, Annapolis\, MD\, 21401\, United States
CATEGORIES:Community Events
ATTACH;FMTTYPE=image/jpeg:https://cfaac.org/wp-content/uploads/2025/03/Foundation-Grants.jpg
END:VEVENT
BEGIN:VEVENT
DTSTART;TZID=UTC:20250325T090000
DTEND;TZID=UTC:20250325T100000
DTSTAMP:20260419T234741
CREATED:20250303T152204Z
LAST-MODIFIED:20250311T150221Z
UID:10000062-1742893200-1742896800@cfaac.org
SUMMARY:The Loneliness Epidemic: Strategies to Gentle Our Journey (Virtual Presentation)
DESCRIPTION:In 2023\, the Surgeon General published an Advisory on the Health Effects of Social Connection and Community\, titled “Our Epidemic of Loneliness and Isolation.”  The report notes that millions of Americans lack meaningful social connection\, and that there are a myriad emotional and physical health consequences associated with this loss of connection.  \nLoneliness is associated with a higher risk of anxiety\, depression\, and dementia. It also increases vulnerability to physical health problems\, including a greater susceptibility to viral and respiratory infections\, elevated risks of heart disease and stroke\, and potentially premature death. \nBut what does it mean to feel lonely? Why do we experience loneliness? Why is it such a prominent topic today? And most importantly\, how can we address it? \nDue to the success and high demand of the previous in-person session\, this virtual presentation will be held on March 25.  Marcie Gibbons LCSW-C\, from the Anne Arundel County Mental Health Agency\, \, will explore the growing “loneliness epidemic\,” emphasizing its profound impact on mental and physical health. The session will include key recommendations from the Surgeon General and strategies to “gentle our journey\,” fostering connection and resilience in an increasingly isolated world. \nEvent Details: \n\nDate: March 25\nFormat: Virtual (Zoom link will be sent in the registration confirmation email)\nCost: Free for registered attendees\n\nREGISTER HERE
URL:https://cfaac.org/event/the-loneliness-epidemic-strategies-to-gentle-our-journey-virtual-presentation/
LOCATION:Zoom
CATEGORIES:Community Events
ATTACH;FMTTYPE=image/png:https://cfaac.org/wp-content/uploads/2025/03/The-Loneliness-Epidemic-Website.png
END:VEVENT
BEGIN:VEVENT
DTSTART;TZID=UTC:20250310T183000
DTEND;TZID=UTC:20250310T200000
DTSTAMP:20260419T234741
CREATED:20250121T201855Z
LAST-MODIFIED:20250121T201855Z
UID:10000055-1741631400-1741636800@cfaac.org
SUMMARY:AAWGT Women in Leadership - Trailblazers
DESCRIPTION:Join Anne Arundel Women Giving Together for an unforgettable evening celebrating Women in Leadership – in honor of Women’s History Month!\n \nDive into a powerful conversation\, inspired by the personal journeys and impactful leadership of two trailblazing women as we discuss how leadership\, innovation\, and courage inspire the next generation of changemakers. Stay after for a light reception to network and continue the conversation about strengthening women and families. \nReserve your in-person spot today! Stay tuned for news about a potential livestream option\, as well. \nPlease register HERE. Follow the registration questions all the way to CONFIRM. Your confirmation should arrive within seconds. If you have any questions about registering\, please contact events@givingtogether.org for assistance. \nAAWGT is a component fund of the Community Foundation of Anne Arundel County.
URL:https://cfaac.org/event/aawgt-women-in-leadership-trailblazers/
LOCATION:St. John’s College – Francis Scott Key Auditorium\, 60 College Ave\, Annapolis\, MD\, 21401\, United States
CATEGORIES:Community Events
ORGANIZER;CN="Anne Arundel Women Giving Together":MAILTO:events@givingtogether.org
END:VEVENT
BEGIN:VEVENT
DTSTART;TZID=UTC:20250307T083000
DTEND;TZID=UTC:20250307T150000
DTSTAMP:20260419T234741
CREATED:20250122T163011Z
LAST-MODIFIED:20250130T150400Z
UID:10000058-1741336200-1741359600@cfaac.org
SUMMARY:Mission & Method: Strategies for Greater Nonprofit Impact and Collaboration
DESCRIPTION:The Nonprofit Center\, in partnership with the Community Foundation of Anne Arundel County (CFAAC)\, is hosting its annual full-day conference: Mission & Method: Strategies for Greater Nonprofit Impact and Collaboration. \nThe Mission and Methods conference is open to all Anne Arundel County 501(c)(3) nonprofits*\, regardless of annual budget\, size\, or mission.
URL:https://cfaac.org/event/2025-nonprofit-center-conference-mission-method/
LOCATION:Chesapeake Arts Center\, 194 Hammonds Lane\, Brooklyn Park\, MD\, 21225\, United States
CATEGORIES:Community Events
ATTACH;FMTTYPE=image/png:https://cfaac.org/wp-content/uploads/2025/01/NPC-Conference-Flyer.-Horizontal-1.png
END:VEVENT
BEGIN:VEVENT
DTSTART;TZID=UTC:20250226T130000
DTEND;TZID=UTC:20250226T150000
DTSTAMP:20260419T234741
CREATED:20250122T150607Z
LAST-MODIFIED:20250204T165037Z
UID:10000056-1740574800-1740582000@cfaac.org
SUMMARY:Blueprint for Successful Grant Applications
DESCRIPTION:Join our panel of experts as we construct the foundation for successful grant applications. We’ll frame key components\, including how to craft compelling narratives\, reinforce your case with evidence of need\, and structure budgets that meet grant reviewer expectations—building a well-crafted blueprint for funding success. \n\nPresent a Strong Idea: Ensure your program aligns with your organization’s mission\, meets grant parameters\, and serves a real need with measurable impact.\nDemonstrate a Track Record of Success: Showcase your organization’s growth\, achievements\, and previous funding to build credibility with grant reviewers.\nCraft a Compelling Proposal: Learn how to create a clear\, concise summary that leaves a lasting impression\, even among dozens of applications.\nShare a Detailed Operating Budget: Learn the best practices of presenting a budget that reflects your priorities and supports your proposal’s goals.\nMeasure Success: Understand how to set metrics for progress and effectively demonstrate the impact of your work.\n\nREGISTER HERE\nIf you have any questions\, feel free to contact Kristen at kristen@cfaac.org.  \n  \n 
URL:https://cfaac.org/event/blueprint-for-grant-applications/
LOCATION:Michael E. Busch Annapolis Library\, 1410 West St\, Annapolis\, MD\, 21401\, United States
CATEGORIES:Community Events
ATTACH;FMTTYPE=image/png:https://cfaac.org/wp-content/uploads/2025/01/blueprint-for-grantapplications.png
END:VEVENT
BEGIN:VEVENT
DTSTART;TZID=UTC:20250221T130000
DTEND;TZID=UTC:20250221T143000
DTSTAMP:20260419T234741
CREATED:20250122T160912Z
LAST-MODIFIED:20250130T164019Z
UID:10000057-1740142800-1740148200@cfaac.org
SUMMARY:The Loneliness Epidemic: Strategies to Gentle Our Journey
DESCRIPTION:In 2023\, the Surgeon General published an Advisory on the Health Effects of Social Connection and Community\, titled “Our Epidemic of Loneliness and Isolation.”  The report notes that millions of Americans lack meaningful social connection\, and that there are a myriad emotional and physical health consequences associated with this loss of connection.  \nLoneliness is associated with a higher risk of anxiety\, depression\, and dementia. It also makes us more vulnerable to physical health problems including increased susceptibility to viral and respiratory infections\, an elevated risk of heart disease and stroke\, and potentially even premature death. \nBut what does it mean to feel lonely? Why do we experience loneliness?  Why is it such a prominent topic today? And most importantly\, how can we address it? \nAt this presentation\, Marcie Gibbons LCSW-C\, from the Anne Arundel County Mental Health Agency\, will explore the growing “loneliness epidemic\,” emphasizing its profound impact on mental and physical health. The presentation will feature key recommendations from the Surgeon General and strategies to “gentle our journey\,” fostering connection and resilience in an increasingly isolated world. \nREGISTER HERE
URL:https://cfaac.org/event/the-loneliness-epidemic-strategies-to-gentle-our-journey/
LOCATION:Michael E. Busch Annapolis Library\, 1410 West St\, Annapolis\, MD\, 21401\, United States
CATEGORIES:Community Events
ATTACH;FMTTYPE=image/png:https://cfaac.org/wp-content/uploads/2025/01/The-Loneliness-Epidemic-Website-1.png
END:VEVENT
BEGIN:VEVENT
DTSTART;TZID=UTC:20250220T110000
DTEND;TZID=UTC:20250220T110000
DTSTAMP:20260419T234741
CREATED:20250129T165816Z
LAST-MODIFIED:20250211T155306Z
UID:10000060-1740049200-1740049200@cfaac.org
SUMMARY:The Nonprofit Center Open House
DESCRIPTION:The Nonprofit Center is hosting an open house at its facility in Crownsville on February 20\, 2025. \nRenovation of the building at 41 Community Place has been underway for more than a year. The major work is complete and it’s time to offer everyone a sneak peek before we finalize plans and begin to move in.  \nSome spaces are still a blank canvas\, and we are looking for input. So\, whether you’re interested in using the space for periodic meetings\, securing office space\, or just wondering what the building now looks like\, please plan to attend.
URL:https://cfaac.org/event/the-nonprofit-center-open-house/
LOCATION:The Nonprofit Center @ 41 Community Place\, 41 Community Place\, Crownsville\, MD\, 21032
CATEGORIES:Community Events
ATTACH;FMTTYPE=image/jpeg:https://cfaac.org/wp-content/uploads/2025/01/Open-House-12-page-New-Date.jpg
END:VEVENT
BEGIN:VEVENT
DTSTART;TZID=UTC:20250124T120000
DTEND;TZID=UTC:20250124T163000
DTSTAMP:20260419T234741
CREATED:20250110T192739Z
LAST-MODIFIED:20250110T192739Z
UID:10000054-1737720000-1737736200@cfaac.org
SUMMARY:Free CPR and AED Training for Nonprofit Leaders
DESCRIPTION:Our friends at Medicine With a Mission are offering free CPR and AED Certification Training exclusively for nonprofit leaders in Anne Arundel County. This is a fantastic opportunity to gain lifesaving skills and make a difference in your workplace and community.
URL:https://cfaac.org/event/free-cpr-and-aed-training-for-nonprofit-leaders/
LOCATION:Michael E. Busch Annapolis Library\, 1410 West St\, Annapolis\, MD\, 21401\, United States
CATEGORIES:Community Events
ATTACH;FMTTYPE=image/png:https://cfaac.org/wp-content/uploads/2025/01/first-aid-cpr.png
END:VEVENT
BEGIN:VEVENT
DTSTART;TZID=UTC:20241118T180000
DTEND;TZID=UTC:20241118T191500
DTSTAMP:20260419T234741
CREATED:20241106T172949Z
LAST-MODIFIED:20241106T173317Z
UID:10000024-1731952800-1731957300@cfaac.org
SUMMARY:AAWGT Event: Affordable Housing
DESCRIPTION:AAWGT Presents Affordable Housing: Building a Brighter Future for Women and Families in Anne Arundel County\nJoin Anne Arundel Women Giving Together (AAWGT) for our upcoming Education Program on Affordable Housing: Building a Brighter Future for Women and Families in Anne Arundel County on November 18\, 2024\, from 6:00 PM to 7:15 PM via Zoom.\n \nThis important conversation will address the critical issue of affordable housing and its impact on women and families in the community. The expert panelists include:\n\nErin S. Karpewicz\, CEO of Arundel Community Development Services\, Inc.\nBonnie Celestine Henderson\, Attainable Housing Co-Chair\, Anne Arundel Connecting Together (ACT)\nLinda Hannifin Bonner\, Attainable Housing Co-Chair\, Anne Arundel Connecting Together (ACT)\nThe session will be moderated by Heather Cassity of Cassity Consulting.\n\nWith affordable housing being a significant challenge in Anne Arundel County\, this program will explore the housing shortage\, who is most affected\, and what is being done to address the issue. Join these community leaders as they discuss the importance of affordable housing\, community organizing\, and advocacy efforts aimed at creating a brighter future for women and families in our county.\n \nLEARN MORE & REGISTER HERE
URL:https://cfaac.org/event/aawgt-event-affordable-housing/
LOCATION:Zoom
CATEGORIES:Community Events
ATTACH;FMTTYPE=image/png:https://cfaac.org/wp-content/uploads/2024/11/AAWGT-EducationEventsGraphic.png
ORGANIZER;CN="Anne Arundel Women Giving Together":MAILTO:events@givingtogether.org
END:VEVENT
END:VCALENDAR